BEGIN:VCALENDAR
VERSION:2.0
METHOD:PUBLISH
CALSCALE:GREGORIAN
PRODID:-//Refresh Web Development//Helios Calendar//EN
X-FROM-URL:https://www.bayareascience.org/calendar/index.php?com=details&eID=35679
X-WR-RELCALID:BayAreaScience.org  Junipers Junior Naturalist Family Flower Day 20240323T103000
X-WR-TIMEZONE:America/New_York
X-WR-CALNAME:BayAreaScience.org
BEGIN:VEVENT
URL;VALUE=URI:https://www.bayareascience.org/calendar/index.php?com=detail&eID=35679
DTSTART:20240323T103000
DTEND:20240323T133000
SUMMARY: Junipers Junior Naturalist Family Flower Day
DESCRIPTION:Want to learn more about flowers? How to identify them? Figure out what pollinates them? Do some observational drawing? Join us for a day all about flowers at Bouverie Preserve. We will stroll...\n______________________________\nThis Event Downloaded From a Helios Calendar Powered Site
LOCATION:Bouverie Preserve - 13935 California 12 \, Glen Ellen\, CA  95442
CATEGORIES:BayAreaScience.org Events
PRIORITY:0
TRANSP:TRANSPARENT
END:VEVENT
END:VCALENDAR