BEGIN:VCALENDAR
VERSION:2.0
METHOD:PUBLISH
CALSCALE:GREGORIAN
PRODID:-//Refresh Web Development//Helios Calendar//EN
X-FROM-URL:https://www.bayareascience.org/calendar/index.php?com=details&eID=35687
X-WR-RELCALID:BayAreaScience.org The Chinese Computer 20240618T190000
X-WR-TIMEZONE:America/New_York
X-WR-CALNAME:BayAreaScience.org
BEGIN:VEVENT
URL;VALUE=URI:https://www.bayareascience.org/calendar/index.php?com=detail&eID=35687
DTSTART:20240618T190000
DTEND:20240618T190000
SUMMARY:The Chinese Computer
DESCRIPTION:How can Chinese - a language with tens of thousands of characters and no alphabet - be input on a QWERTY keyboard with only a few dozen keys?In his new book\, The Chinese Computer\,...\n______________________________\nThis Event Downloaded From a Helios Calendar Powered Site
LOCATION:Computer History Museum - 1401 N Shoreline Blvd  \, Mountain View\, CA  94043
CATEGORIES:BayAreaScience.org Events
PRIORITY:0
TRANSP:TRANSPARENT
END:VEVENT
END:VCALENDAR