BEGIN:VCALENDAR
VERSION:2.0
METHOD:PUBLISH
CALSCALE:GREGORIAN
PRODID:-//Refresh Web Development//Helios Calendar//EN
X-FROM-URL:https://www.bayareascience.org/calendar/index.php?com=details&eID=35688
X-WR-RELCALID:BayAreaScience.org  Makerspace Science Talk with Monique Smith Lee 20240427T113000
X-WR-TIMEZONE:America/New_York
X-WR-CALNAME:BayAreaScience.org
BEGIN:VEVENT
URL;VALUE=URI:https://www.bayareascience.org/calendar/index.php?com=detail&eID=35688
DTSTART:20240427T113000
DTEND:20240427T123000
SUMMARY: Makerspace Science Talk with Monique Smith Lee
DESCRIPTION:Join us to learn more about northern elephant seals with researcher Monique Smith Lee. She will discuss their recovery from near extinction\, their unique characteristics\, and challenges due to...\n______________________________\nThis Event Downloaded From a Helios Calendar Powered Site
LOCATION:Seymour Marine Discovery Center - 100 McAllister Way Los Feliz Room\, Santa Cruz\, CA  95060
CATEGORIES:BayAreaScience.org Events
PRIORITY:0
TRANSP:TRANSPARENT
END:VEVENT
END:VCALENDAR