BEGIN:VCALENDAR
VERSION:2.0
METHOD:PUBLISH
CALSCALE:GREGORIAN
PRODID:-//Refresh Web Development//Helios Calendar//EN
X-FROM-URL:https://www.bayareascience.org/calendar/index.php?com=details&eID=35690
X-WR-RELCALID:BayAreaScience.org Reinventing Cities: Can zero-carbon development play a role in San Franciscoâ€™s recovery? 20240328T123000
X-WR-TIMEZONE:America/New_York
X-WR-CALNAME:BayAreaScience.org
BEGIN:VEVENT
URL;VALUE=URI:https://www.bayareascience.org/calendar/index.php?com=detail&eID=35690
DTSTART:20240328T123000
DTEND:20240328T133000
SUMMARY:Reinventing Cities: Can zero-carbon development play a role in San Franciscoâ€™s recovery?
DESCRIPTION:San Francisco has entered two City-owned sites in the fourth edition of C40 Cities Reinventing Cities Competition\, a global design and development competition to transform underutilized urban sites...\n______________________________\nThis Event Downloaded From a Helios Calendar Powered Site
LOCATION:SF Planning + Urban Research Assoc. (SPUR) - 654 Mission St \, San Francisco\, CA  94105
CATEGORIES:BayAreaScience.org Events
PRIORITY:0
TRANSP:TRANSPARENT
END:VEVENT
END:VCALENDAR