BEGIN:VCALENDAR
VERSION:2.0
METHOD:PUBLISH
CALSCALE:GREGORIAN
PRODID:-//Refresh Web Development//Helios Calendar//EN
X-FROM-URL:https://www.bayareascience.org/calendar/index.php?com=details&eID=35703
X-WR-RELCALID:BayAreaScience.org Science Is a Piece of Cake: Astronomy Cake-off 20240328T190000
X-WR-TIMEZONE:America/New_York
X-WR-CALNAME:BayAreaScience.org
BEGIN:VEVENT
URL;VALUE=URI:https://www.bayareascience.org/calendar/index.php?com=detail&eID=35703
DTSTART:20240328T190000
DTEND:20240328T210000
SUMMARY:Science Is a Piece of Cake: Astronomy Cake-off
DESCRIPTION:Do you know your astronomy? Learn about all the planets and stars in our (rare night of fog-free) Bay Area sky via ... cake! KQED's Check\, Please! Bay Area producer Cecilia Phillips is hosting...\n______________________________\nThis Event Downloaded From a Helios Calendar Powered Site
LOCATION:KQED\, The Commons - 2601 Mariposa Street \, San Francisco\, CA  94110
CATEGORIES:BayAreaScience.org Events
PRIORITY:0
TRANSP:TRANSPARENT
END:VEVENT
END:VCALENDAR