BEGIN:VCALENDAR
VERSION:2.0
METHOD:PUBLISH
CALSCALE:GREGORIAN
PRODID:-//Refresh Web Development//Helios Calendar//EN
X-FROM-URL:https://www.bayareascience.org/calendar/index.php?com=details&eID=35705
X-WR-RELCALID:BayAreaScience.org Spring Break at the Lawrence Hall of Science - The Shocking Nature of Wildfires Science Show 20240403T113000
X-WR-TIMEZONE:America/New_York
X-WR-CALNAME:BayAreaScience.org
BEGIN:VEVENT
URL;VALUE=URI:https://www.bayareascience.org/calendar/index.php?com=detail&eID=35705
DTSTART:20240403T113000
DTEND:20240403T113000
SUMMARY:Spring Break at the Lawrence Hall of Science - The Shocking Nature of Wildfires Science Show
DESCRIPTION:Soak up the sun and celebrate Spring Break with special events\, extended hours\, and more at The Lawrence! Bring your suntan lotion and dig in the sand in our Forces That Shape the Bay outdoor exhibit\,...\n______________________________\nThis Event Downloaded From a Helios Calendar Powered Site
LOCATION:Lawrence Hall of Science - 1 Centennial Drive \, Berkeley\, CA USA 94720
CATEGORIES:BayAreaScience.org Events
PRIORITY:0
TRANSP:TRANSPARENT
END:VEVENT
END:VCALENDAR