BEGIN:VCALENDAR
VERSION:2.0
METHOD:PUBLISH
CALSCALE:GREGORIAN
PRODID:-//Refresh Web Development//Helios Calendar//EN
X-FROM-URL:https://www.bayareascience.org/calendar/index.php?com=details&eID=35706
X-WR-RELCALID:BayAreaScience.org Driving Climate Solutions: Amazonâ€™s Path to Net-Zero Carbon 20240402T160000
X-WR-TIMEZONE:America/New_York
X-WR-CALNAME:BayAreaScience.org
BEGIN:VEVENT
URL;VALUE=URI:https://www.bayareascience.org/calendar/index.php?com=detail&eID=35706
DTSTART:20240402T160000
DTEND:20240402T173000
SUMMARY:Driving Climate Solutions: Amazonâ€™s Path to Net-Zero Carbon
DESCRIPTION:Kara Hurst leads Worldwide Sustainability at Amazon. Utilizing Amazonâ€™s scale\, speed and innovation\, the Sustainability organization includes teams executing the work of The Climate Pledge\;...\n______________________________\nThis Event Downloaded From a Helios Calendar Powered Site
LOCATION:Spieker Auditorium - UC Berkeley \, Berkeley\, CA  94720
CATEGORIES:BayAreaScience.org Events
PRIORITY:0
TRANSP:TRANSPARENT
END:VEVENT
END:VCALENDAR