BEGIN:VCALENDAR
VERSION:2.0
METHOD:PUBLISH
CALSCALE:GREGORIAN
PRODID:-//Refresh Web Development//Helios Calendar//EN
X-FROM-URL:https://www.bayareascience.org/calendar/index.php?com=details&eID=35707
X-WR-RELCALID:BayAreaScience.org Astronomy on Tap Tucson #96: Galaxies Going Bananas + Space Drafts Trivia! 20240319T193000
X-WR-TIMEZONE:America/New_York
X-WR-CALNAME:BayAreaScience.org
BEGIN:VEVENT
URL;VALUE=URI:https://www.bayareascience.org/calendar/index.php?com=detail&eID=35707
DTSTART:20240319T193000
DTEND:20240319T213000
SUMMARY:Astronomy on Tap Tucson #96: Galaxies Going Bananas + Space Drafts Trivia!
DESCRIPTION:On tap this month\, we have Steward Observatory graduate student Haowen Zhang talking about how galaxies in the early universe are going bananas! Weâ€™ll also be hosting another trivia game...\n______________________________\nThis Event Downloaded From a Helios Calendar Powered Site
LOCATION:Astronomy on Tap -  \, \, CA  
CATEGORIES:BayAreaScience.org Events
PRIORITY:0
TRANSP:TRANSPARENT
END:VEVENT
END:VCALENDAR