BEGIN:VCALENDAR
VERSION:2.0
METHOD:PUBLISH
CALSCALE:GREGORIAN
PRODID:-//Refresh Web Development//Helios Calendar//EN
X-FROM-URL:https://www.bayareascience.org/calendar/index.php?com=details&eID=35708
X-WR-RELCALID:BayAreaScience.org Got Fakes? Paper microfluidics and the hunt for bad quality medicines - Livestream 20240504T103000
X-WR-TIMEZONE:America/New_York
X-WR-CALNAME:BayAreaScience.org
BEGIN:VEVENT
URL;VALUE=URI:https://www.bayareascience.org/calendar/index.php?com=detail&eID=35708
DTSTART:20240504T103000
DTEND:20240504T120000
SUMMARY:Got Fakes? Paper microfluidics and the hunt for bad quality medicines - Livestream
DESCRIPTION:In low- and middle-income countries\, about one in ten medicine products is substandard or falsified. In my lab\, I have samples of antimalarial drugs made from starch and chalk\, antibiotics â€œcutâ€...\n______________________________\nThis Event Downloaded From a Helios Calendar Powered Site
LOCATION:California Section American Chemical Society -  \, \, CA  
CATEGORIES:BayAreaScience.org Events
PRIORITY:0
TRANSP:TRANSPARENT
END:VEVENT
END:VCALENDAR