BEGIN:VCALENDAR
VERSION:2.0
METHOD:PUBLISH
CALSCALE:GREGORIAN
PRODID:-//Refresh Web Development//Helios Calendar//EN
X-FROM-URL:https://www.bayareascience.org/calendar/index.php?com=details&eID=35719
X-WR-RELCALID:BayAreaScience.org Roving Ranger Park Parade Tour - The Warming Hut 20240316T140000
X-WR-TIMEZONE:America/New_York
X-WR-CALNAME:BayAreaScience.org
BEGIN:VEVENT
URL;VALUE=URI:https://www.bayareascience.org/calendar/index.php?com=detail&eID=35719
DTSTART:20240316T140000
DTEND:20240316T150000
SUMMARY:Roving Ranger Park Parade Tour - The Warming Hut
DESCRIPTION:Looking for something fun to do on a weekend outdoors in a local national park? Come out and join us for the Roving Ranger's Park Parade Tour!In San Francisco\, we will be making stops at...\n______________________________\nThis Event Downloaded From a Helios Calendar Powered Site
LOCATION:Crissy Field Warming Hut - 983 Marine Dr \, San Francisco\, CA  94129
CATEGORIES:BayAreaScience.org Events
PRIORITY:0
TRANSP:TRANSPARENT
END:VEVENT
END:VCALENDAR