BEGIN:VCALENDAR
VERSION:2.0
METHOD:PUBLISH
CALSCALE:GREGORIAN
PRODID:-//Refresh Web Development//Helios Calendar//EN
X-FROM-URL:https://www.bayareascience.org/calendar/index.php?com=details&eID=35724
X-WR-RELCALID:BayAreaScience.org If I had a Magic Wandâ€¦â€ Stories of how Hospice and Palliative Medicine can make wishes come true 20240319T190000
X-WR-TIMEZONE:America/New_York
X-WR-CALNAME:BayAreaScience.org
BEGIN:VEVENT
URL;VALUE=URI:https://www.bayareascience.org/calendar/index.php?com=detail&eID=35724
DTSTART:20240319T190000
DTEND:20240319T200000
SUMMARY:If I had a Magic Wandâ€¦â€ Stories of how Hospice and Palliative Medicine can make wishes come true
DESCRIPTION:\n______________________________\nThis Event Downloaded From a Helios Calendar Powered Site
LOCATION:Hopkins Marine Station - 120 Ocean View Blvd \, Pacific Grove\, CA  93950
CATEGORIES:BayAreaScience.org Events
PRIORITY:0
TRANSP:TRANSPARENT
END:VEVENT
END:VCALENDAR