BEGIN:VCALENDAR
VERSION:2.0
METHOD:PUBLISH
CALSCALE:GREGORIAN
PRODID:-//Refresh Web Development//Helios Calendar//EN
X-FROM-URL:https://www.bayareascience.org/calendar/index.php?com=details&eID=35732
X-WR-RELCALID:BayAreaScience.org Bering Sea Saga - A Tale of Two Birders - Livestream 20240523T190000
X-WR-TIMEZONE:America/New_York
X-WR-CALNAME:BayAreaScience.org
BEGIN:VEVENT
URL;VALUE=URI:https://www.bayareascience.org/calendar/index.php?com=detail&eID=35732
DTSTART:20240523T190000
DTEND:20240523T190000
SUMMARY:Bering Sea Saga - A Tale of Two Birders - Livestream
DESCRIPTION:Jonah Benningfield and Mark Rauzon both did seabird field work in Alaskaâ€™s Bering Sea. Jonah was situated on the famed Pribilof Islands\, especially St. George and Mark cruised by there in...\n______________________________\nThis Event Downloaded From a Helios Calendar Powered Site
LOCATION:Golden Gate Bird Alliance -  \, \, CA  
CATEGORIES:BayAreaScience.org Events
PRIORITY:0
TRANSP:TRANSPARENT
END:VEVENT
END:VCALENDAR