BEGIN:VCALENDAR
VERSION:2.0
METHOD:PUBLISH
CALSCALE:GREGORIAN
PRODID:-//Refresh Web Development//Helios Calendar//EN
X-FROM-URL:https://www.bayareascience.org/calendar/index.php?com=details&eID=35735
X-WR-RELCALID:BayAreaScience.org The Allure of the Multiverse: Beyond the Limits of Direct Observation - Livestream 20240417T190000
X-WR-TIMEZONE:America/New_York
X-WR-CALNAME:BayAreaScience.org
BEGIN:VEVENT
URL;VALUE=URI:https://www.bayareascience.org/calendar/index.php?com=detail&eID=35735
DTSTART:20240417T190000
DTEND:20240417T203000
SUMMARY:The Allure of the Multiverse: Beyond the Limits of Direct Observation - Livestream
DESCRIPTION:Given that the extent of the observable universe has yet to be mapped out\, some might wonder why some physicists have introduced the concept of a multiverse into their models. Â This...\n______________________________\nThis Event Downloaded From a Helios Calendar Powered Site
LOCATION:Silicon Valley Astronomy Lecture Series -  \, \, CA United States 
CATEGORIES:BayAreaScience.org Events
PRIORITY:0
TRANSP:TRANSPARENT
END:VEVENT
END:VCALENDAR