BEGIN:VCALENDAR
VERSION:2.0
METHOD:PUBLISH
CALSCALE:GREGORIAN
PRODID:-//Refresh Web Development//Helios Calendar//EN
X-FROM-URL:https://www.bayareascience.org/calendar/index.php?com=details&eID=35738
X-WR-RELCALID:BayAreaScience.org From Neanderthals to Plants to Pathogens: Human Co-evolution with Other Organisms - Livestream 20240514T170000
X-WR-TIMEZONE:America/New_York
X-WR-CALNAME:BayAreaScience.org
BEGIN:VEVENT
URL;VALUE=URI:https://www.bayareascience.org/calendar/index.php?com=detail&eID=35738
DTSTART:20240514T170000
DTEND:20240514T170000
SUMMARY:From Neanderthals to Plants to Pathogens: Human Co-evolution with Other Organisms - Livestream
DESCRIPTION:As humans have evolved over the last 300 thousand years\, we have shared the planet with many living things\, interacting with and affecting one another in many ways. Join us as three biologists...\n______________________________\nThis Event Downloaded From a Helios Calendar Powered Site
LOCATION:UC Berkeley -  \, \, CA  
CATEGORIES:BayAreaScience.org Events
PRIORITY:0
TRANSP:TRANSPARENT
END:VEVENT
END:VCALENDAR