BEGIN:VCALENDAR
VERSION:2.0
METHOD:PUBLISH
CALSCALE:GREGORIAN
PRODID:-//Refresh Web Development//Helios Calendar//EN
X-FROM-URL:https://www.bayareascience.org/calendar/index.php?com=details&eID=35742
X-WR-RELCALID:BayAreaScience.org Electric Vehicle Charging Basics Workshop - Livestream 20240327T190000
X-WR-TIMEZONE:America/New_York
X-WR-CALNAME:BayAreaScience.org
BEGIN:VEVENT
URL;VALUE=URI:https://www.bayareascience.org/calendar/index.php?com=detail&eID=35742
DTSTART:20240327T190000
DTEND:20240327T200000
SUMMARY:Electric Vehicle Charging Basics Workshop - Livestream
DESCRIPTION:Join us for an electric vehicle (EV) online workshop focused on EV charging.Learn about the best ways to find and use public chargers.Discover different available charging...\n______________________________\nThis Event Downloaded From a Helios Calendar Powered Site
LOCATION:City of Sunnyvale -  \, \, CA United States 
CATEGORIES:BayAreaScience.org Events
PRIORITY:0
TRANSP:TRANSPARENT
END:VEVENT
END:VCALENDAR