BEGIN:VCALENDAR
VERSION:2.0
METHOD:PUBLISH
CALSCALE:GREGORIAN
PRODID:-//Refresh Web Development//Helios Calendar//EN
X-FROM-URL:https://www.bayareascience.org/calendar/index.php?com=details&eID=35745
X-WR-RELCALID:BayAreaScience.org Beyond the Initial Cure: Expanding Horizons of Orphan Drug Indications - Livestream 20240327T090000
X-WR-TIMEZONE:America/New_York
X-WR-CALNAME:BayAreaScience.org
BEGIN:VEVENT
URL;VALUE=URI:https://www.bayareascience.org/calendar/index.php?com=detail&eID=35745
DTSTART:20240327T090000
DTEND:20240327T100000
SUMMARY:Beyond the Initial Cure: Expanding Horizons of Orphan Drug Indications - Livestream
DESCRIPTION:The Inflation Reduction Act stands as key legislation aimed at improving the accessibility of medicines\, yet it has introduced some potential unintended consequences on biotechnology innovation...\n______________________________\nThis Event Downloaded From a Helios Calendar Powered Site
LOCATION:Stanford University -  \, \, CA  
CATEGORIES:BayAreaScience.org Events
PRIORITY:0
TRANSP:TRANSPARENT
END:VEVENT
END:VCALENDAR