BEGIN:VCALENDAR
VERSION:2.0
METHOD:PUBLISH
CALSCALE:GREGORIAN
PRODID:-//Refresh Web Development//Helios Calendar//EN
X-FROM-URL:https://www.bayareascience.org/calendar/index.php?com=details&eID=35751
X-WR-RELCALID:BayAreaScience.org What are these small worlds, after all? The nature and evolution of 'mini-Neptunes' 20240405T120000
X-WR-TIMEZONE:America/New_York
X-WR-CALNAME:BayAreaScience.org
BEGIN:VEVENT
URL;VALUE=URI:https://www.bayareascience.org/calendar/index.php?com=detail&eID=35751
DTSTART:20240405T120000
DTEND:20240405T130000
SUMMARY:What are these small worlds\, after all? The nature and evolution of 'mini-Neptunes'
DESCRIPTION:Speaker: Eric Gaidos\, UC Santa Cruz\n______________________________\nThis Event Downloaded From a Helios Calendar Powered Site
LOCATION:Earth and Marine Sciences Building - UC Santa Cruz Room A340\, Santa Cruz\, CA  95064
CATEGORIES:BayAreaScience.org Events
PRIORITY:0
TRANSP:TRANSPARENT
END:VEVENT
END:VCALENDAR