BEGIN:VCALENDAR
VERSION:2.0
METHOD:PUBLISH
CALSCALE:GREGORIAN
PRODID:-//Refresh Web Development//Helios Calendar//EN
X-FROM-URL:https://www.bayareascience.org/calendar/index.php?com=details&eID=35760
X-WR-RELCALID:BayAreaScience.org 700 Years of Great Earthquake Ruptures in the Eastern Aleutians Based on Modeling Tsunami Run-up and Stratigraphic Deposits in the Aleutian Islands an 20240409T153000
X-WR-TIMEZONE:America/New_York
X-WR-CALNAME:BayAreaScience.org
BEGIN:VEVENT
URL;VALUE=URI:https://www.bayareascience.org/calendar/index.php?com=detail&eID=35760
DTSTART:20240409T153000
DTEND:20240409T153000
SUMMARY:700 Years of Great Earthquake Ruptures in the Eastern Aleutians Based on Modeling Tsunami Run-up and Stratigraphic Deposits in the Aleutian Islands an
DESCRIPTION:Speaker: Thorne Lay\,...\n______________________________\nThis Event Downloaded From a Helios Calendar Powered Site
LOCATION:Earth and Marine Sciences Building - UC Santa Cruz Room A340\, Santa Cruz\, CA  95064
CATEGORIES:BayAreaScience.org Events
PRIORITY:0
TRANSP:TRANSPARENT
END:VEVENT
END:VCALENDAR