BEGIN:VCALENDAR
VERSION:2.0
METHOD:PUBLISH
CALSCALE:GREGORIAN
PRODID:-//Refresh Web Development//Helios Calendar//EN
X-FROM-URL:https://www.bayareascience.org/calendar/index.php?com=details&eID=35772
X-WR-RELCALID:BayAreaScience.org Earth Day Celebration at CuriOdyssey 20240421T100000
X-WR-TIMEZONE:America/New_York
X-WR-CALNAME:BayAreaScience.org
BEGIN:VEVENT
URL;VALUE=URI:https://www.bayareascience.org/calendar/index.php?com=detail&eID=35772
DTSTART:20240421T100000
DTEND:20240421T170000
SUMMARY:Earth Day Celebration at CuriOdyssey
DESCRIPTION:Come join us for an Earth Day celebration on Sunday\, April 21\, 2024! Enjoy music and tasty food from Satay on the Bay and Mozzeria\, try out eco-activities for kids of all ages\, browse our Earth...\n______________________________\nThis Event Downloaded From a Helios Calendar Powered Site
LOCATION:CuriOdyssey - 1651 Coyote Point Drive \, San Mateo\, CA USA 94401
CATEGORIES:BayAreaScience.org Events
PRIORITY:0
TRANSP:TRANSPARENT
END:VEVENT
END:VCALENDAR