BEGIN:VCALENDAR
VERSION:2.0
METHOD:PUBLISH
CALSCALE:GREGORIAN
PRODID:-//Refresh Web Development//Helios Calendar//EN
X-FROM-URL:https://www.bayareascience.org/calendar/index.php?com=details&eID=35777
X-WR-RELCALID:BayAreaScience.org Collective Climates | CED Talks - Activist Infrastructure Imaginaries 20240410T183000
X-WR-TIMEZONE:America/New_York
X-WR-CALNAME:BayAreaScience.org
BEGIN:VEVENT
URL;VALUE=URI:https://www.bayareascience.org/calendar/index.php?com=detail&eID=35777
DTSTART:20240410T183000
DTEND:20240410T183000
SUMMARY:Collective Climates | CED Talks - Activist Infrastructure Imaginaries
DESCRIPTION:In this CED take on TED Talks\, three faculty from across the College of Environmental Design share their experiences working alongside communities on issues of climate resilience and repair. They...\n______________________________\nThis Event Downloaded From a Helios Calendar Powered Site
LOCATION:Wurster Hall - UC Berkeley Room 112\, Berkeley\, CA  94720
CATEGORIES:BayAreaScience.org Events
PRIORITY:0
TRANSP:TRANSPARENT
END:VEVENT
END:VCALENDAR