BEGIN:VCALENDAR
VERSION:2.0
METHOD:PUBLISH
CALSCALE:GREGORIAN
PRODID:-//Refresh Web Development//Helios Calendar//EN
X-FROM-URL:https://www.bayareascience.org/calendar/index.php?com=details&eID=35778
X-WR-RELCALID:BayAreaScience.org Tech Talk: Psyche - Rescheduled 20240502T183000
X-WR-TIMEZONE:America/New_York
X-WR-CALNAME:BayAreaScience.org
BEGIN:VEVENT
URL;VALUE=URI:https://www.bayareascience.org/calendar/index.php?com=detail&eID=35778
DTSTART:20240502T183000
DTEND:20240502T210000
SUMMARY:Tech Talk: Psyche - Rescheduled
DESCRIPTION:The Psyche spacecraft\, built by Maxar in partnership with NASA JPL\, is flying to 16-Psyche\, an all-metal asteroid orbiting between Mars and Jupiter. Humanity has never before explored a world like...\n______________________________\nThis Event Downloaded From a Helios Calendar Powered Site
LOCATION:Hacker Dojo - 855 Maude Avenue \, Mountain View\, CA  94043
CATEGORIES:BayAreaScience.org Events
PRIORITY:0
TRANSP:TRANSPARENT
END:VEVENT
END:VCALENDAR