BEGIN:VCALENDAR
VERSION:2.0
METHOD:PUBLISH
CALSCALE:GREGORIAN
PRODID:-//Refresh Web Development//Helios Calendar//EN
X-FROM-URL:https://www.bayareascience.org/calendar/index.php?com=details&eID=35781
X-WR-RELCALID:BayAreaScience.org Mushroom Foraging with Children and Families 20240416T193000
X-WR-TIMEZONE:America/New_York
X-WR-CALNAME:BayAreaScience.org
BEGIN:VEVENT
URL;VALUE=URI:https://www.bayareascience.org/calendar/index.php?com=detail&eID=35781
DTSTART:20240416T193000
DTEND:20240416T193000
SUMMARY:Mushroom Foraging with Children and Families
DESCRIPTION:Curious about the best ways to introduce children to...\n______________________________\nThis Event Downloaded From a Helios Calendar Powered Site
LOCATION:Randall Museum - 199 Museum Way \, San Francisco\, CA  94114
CATEGORIES:BayAreaScience.org Events
PRIORITY:0
TRANSP:TRANSPARENT
END:VEVENT
END:VCALENDAR