BEGIN:VCALENDAR
VERSION:2.0
METHOD:PUBLISH
CALSCALE:GREGORIAN
PRODID:-//Refresh Web Development//Helios Calendar//EN
X-FROM-URL:https://www.bayareascience.org/calendar/index.php?com=details&eID=35785
X-WR-RELCALID:BayAreaScience.org Climate Change at Chrissy Field 20240427T100000
X-WR-TIMEZONE:America/New_York
X-WR-CALNAME:BayAreaScience.org
BEGIN:VEVENT
URL;VALUE=URI:https://www.bayareascience.org/calendar/index.php?com=detail&eID=35785
DTSTART:20240427T100000
DTEND:20240427T120000
SUMMARY:Climate Change at Chrissy Field
DESCRIPTION:Join the Climate Change at Crissy Field tour to explore the breathtaking\, 180-degree views of San Francisco Bay from Crissy Field and to discuss the threat of climate change and sea level rise...\n______________________________\nThis Event Downloaded From a Helios Calendar Powered Site
LOCATION:Meet by restrooms @ Crissy Field East Beach - East Beach\, Crissy Field \, SF\, CA  94129
CATEGORIES:BayAreaScience.org Events
PRIORITY:0
TRANSP:TRANSPARENT
END:VEVENT
END:VCALENDAR