BEGIN:VCALENDAR
VERSION:2.0
METHOD:PUBLISH
CALSCALE:GREGORIAN
PRODID:-//Refresh Web Development//Helios Calendar//EN
X-FROM-URL:https://www.bayareascience.org/calendar/index.php?com=details&eID=35791
X-WR-RELCALID:BayAreaScience.org View the Great 2024 North American Total Solar Eclipse at the Sage and Drifter bar, 1368 Irving. St @15th Av 20240408T100000
X-WR-TIMEZONE:America/New_York
X-WR-CALNAME:BayAreaScience.org
BEGIN:VEVENT
URL;VALUE=URI:https://www.bayareascience.org/calendar/index.php?com=detail&eID=35791
DTSTART:20240408T100000
DTEND:20240408T120000
SUMMARY:View the Great 2024 North American Total Solar Eclipse at the Sage and Drifter bar\, 1368 Irving. St @15th Av
DESCRIPTION:On Monday\, April 8 there will be a rare Total Solar Eclipse of the Sun! The 115 mile wide path of Totality (the Moon's shadow) crosses North America\, in a Northeasterly direction from Mexico to...\n______________________________\nThis Event Downloaded From a Helios Calendar Powered Site
LOCATION:Sage and Drifter - 1368 Irving St \, San Francisco\, CA USA 94122
CATEGORIES:BayAreaScience.org Events
PRIORITY:0
TRANSP:TRANSPARENT
END:VEVENT
END:VCALENDAR