BEGIN:VCALENDAR
VERSION:2.0
METHOD:PUBLISH
CALSCALE:GREGORIAN
PRODID:-//Refresh Web Development//Helios Calendar//EN
X-FROM-URL:https://www.bayareascience.org/calendar/index.php?com=details&eID=35817
X-WR-RELCALID:BayAreaScience.org State of the Industry Panel: AI and AR, Supercharged 20240402T170000
X-WR-TIMEZONE:America/New_York
X-WR-CALNAME:BayAreaScience.org
BEGIN:VEVENT
URL;VALUE=URI:https://www.bayareascience.org/calendar/index.php?com=detail&eID=35817
DTSTART:20240402T170000
DTEND:20240402T190000
SUMMARY:State of the Industry Panel: AI and AR\, Supercharged
DESCRIPTION:Please join the Stanford Accelerator for Learning for an exciting panel discussion featuring industry experts from Meta\, Niantic (creators of Pokemon Go)\, Xreal\, and Magic Leap...\n______________________________\nThis Event Downloaded From a Helios Calendar Powered Site
LOCATION:Center for Education Research (CERAS) - Stanford University Learning Hall\, Stanford\, CA  94305
CATEGORIES:BayAreaScience.org Events
PRIORITY:0
TRANSP:TRANSPARENT
END:VEVENT
END:VCALENDAR