BEGIN:VCALENDAR
VERSION:2.0
METHOD:PUBLISH
CALSCALE:GREGORIAN
PRODID:-//Refresh Web Development//Helios Calendar//EN
X-FROM-URL:https://www.bayareascience.org/calendar/index.php?com=details&eID=35820
X-WR-RELCALID:BayAreaScience.org Astronomy on Tap Tucson #97: Giant Rockets, Giant Telescopes, and Giant Exoplanets, oh my! - Livestream 20240416T193000
X-WR-TIMEZONE:America/New_York
X-WR-CALNAME:BayAreaScience.org
BEGIN:VEVENT
URL;VALUE=URI:https://www.bayareascience.org/calendar/index.php?com=detail&eID=35820
DTSTART:20240416T193000
DTEND:20240416T213000
SUMMARY:Astronomy on Tap Tucson #97: Giant Rockets\, Giant Telescopes\, and Giant Exoplanets\, oh my! - Livestream
DESCRIPTION:The dawn of giant rockets delivering giant telescopesSpeaker: Daewook KimSearching...\n______________________________\nThis Event Downloaded From a Helios Calendar Powered Site
LOCATION:Astronomy on Tap -  \, \, CA  
CATEGORIES:BayAreaScience.org Events
PRIORITY:0
TRANSP:TRANSPARENT
END:VEVENT
END:VCALENDAR