BEGIN:VCALENDAR
VERSION:2.0
METHOD:PUBLISH
CALSCALE:GREGORIAN
PRODID:-//Refresh Web Development//Helios Calendar//EN
X-FROM-URL:https://www.bayareascience.org/calendar/index.php?com=details&eID=35823
X-WR-RELCALID:BayAreaScience.org Earth Day at the Refuge 20240422T100000
X-WR-TIMEZONE:America/New_York
X-WR-CALNAME:BayAreaScience.org
BEGIN:VEVENT
URL;VALUE=URI:https://www.bayareascience.org/calendar/index.php?com=detail&eID=35823
DTSTART:20240422T100000
DTEND:20240422T140000
SUMMARY:Earth Day at the Refuge
DESCRIPTION:This year\, the Don Edwards San Francisco Bay National Wildlife Refuge and partners are celebrating Earth Day and 50 years of Endangered Species Act in a big way - and it will be fun for the whole...\n______________________________\nThis Event Downloaded From a Helios Calendar Powered Site
LOCATION:Don Edwards Refuge Headquarters & Visitors Center - 2 Marshlands Road \, Fremont\, CA  94555
CATEGORIES:BayAreaScience.org Events
PRIORITY:0
TRANSP:TRANSPARENT
END:VEVENT
END:VCALENDAR