BEGIN:VCALENDAR
VERSION:2.0
METHOD:PUBLISH
CALSCALE:GREGORIAN
PRODID:-//Refresh Web Development//Helios Calendar//EN
X-FROM-URL:https://www.bayareascience.org/calendar/index.php?com=details&eID=35825
X-WR-RELCALID:BayAreaScience.org Foxes in Your Neighborhood 20240429T130000
X-WR-TIMEZONE:America/New_York
X-WR-CALNAME:BayAreaScience.org
BEGIN:VEVENT
URL;VALUE=URI:https://www.bayareascience.org/calendar/index.php?com=detail&eID=35825
DTSTART:20240429T130000
DTEND:20240429T140000
SUMMARY:Foxes in Your Neighborhood
DESCRIPTION:This program is led by internationally known Bill Leikam - aka the Fox Guy\, president and co-founder of the Urban Wildlife Research Project. Here is what Bill says about his program: "Do you sometimes...\n______________________________\nThis Event Downloaded From a Helios Calendar Powered Site
LOCATION:Don Edwards Refuge Headquarters & Visitors Center - 2 Marshlands Road \, Fremont\, CA  94555
CATEGORIES:BayAreaScience.org Events
PRIORITY:0
TRANSP:TRANSPARENT
END:VEVENT
END:VCALENDAR