BEGIN:VCALENDAR
VERSION:2.0
METHOD:PUBLISH
CALSCALE:GREGORIAN
PRODID:-//Refresh Web Development//Helios Calendar//EN
X-FROM-URL:https://www.bayareascience.org/calendar/index.php?com=details&eID=35828
X-WR-RELCALID:BayAreaScience.org Love our Earth Festival 20240413T100000
X-WR-TIMEZONE:America/New_York
X-WR-CALNAME:BayAreaScience.org
BEGIN:VEVENT
URL;VALUE=URI:https://www.bayareascience.org/calendar/index.php?com=detail&eID=35828
DTSTART:20240413T100000
DTEND:20240413T140000
SUMMARY:Love our Earth Festival
DESCRIPTION:Donâ€™t miss the 3rd annual LOVE OUR EARTH FESTIVAL\, Saturday\, April 13\, from 10 am to 2 pm at \n______________________________\nThis Event Downloaded From a Helios Calendar Powered Site
LOCATION:Bloomhouse - 2555 Pulgas Ave \, East Palo Alto\, CA  94303
CATEGORIES:BayAreaScience.org Events
PRIORITY:0
TRANSP:TRANSPARENT
END:VEVENT
END:VCALENDAR