BEGIN:VCALENDAR
VERSION:2.0
METHOD:PUBLISH
CALSCALE:GREGORIAN
PRODID:-//Refresh Web Development//Helios Calendar//EN
X-FROM-URL:https://www.bayareascience.org/calendar/index.php?com=details&eID=35833
X-WR-RELCALID:BayAreaScience.org A Conversation with Ellen Jackowski, Chiefâ€¯ Sustainabilityâ€¯ Officer and EVP at Mastercard - Livestream 20240404T150000
X-WR-TIMEZONE:America/New_York
X-WR-CALNAME:BayAreaScience.org
BEGIN:VEVENT
URL;VALUE=URI:https://www.bayareascience.org/calendar/index.php?com=detail&eID=35833
DTSTART:20240404T150000
DTEND:20240404T160000
SUMMARY:A Conversation with Ellen Jackowski\, Chiefâ€¯ Sustainabilityâ€¯ Officer and EVP at Mastercard - Livestream
DESCRIPTION:\n______________________________\nThis Event Downloaded From a Helios Calendar Powered Site
LOCATION:Stanford Woods Institute for the Environment -  \, \, CA  
CATEGORIES:BayAreaScience.org Events
PRIORITY:0
TRANSP:TRANSPARENT
END:VEVENT
END:VCALENDAR