BEGIN:VCALENDAR
VERSION:2.0
METHOD:PUBLISH
CALSCALE:GREGORIAN
PRODID:-//Refresh Web Development//Helios Calendar//EN
X-FROM-URL:https://www.bayareascience.org/calendar/index.php?com=details&eID=35847
X-WR-RELCALID:BayAreaScience.org City Public Star Party - Observe the Moon Night 20240914T193000
X-WR-TIMEZONE:America/New_York
X-WR-CALNAME:BayAreaScience.org
BEGIN:VEVENT
URL;VALUE=URI:https://www.bayareascience.org/calendar/index.php?com=detail&eID=35847
DTSTART:20240914T193000
DTEND:20240914T220000
SUMMARY:City Public Star Party - Observe the Moon Night
DESCRIPTION:Join us for a special edition of the San Francisco Amateur Astronomers city star party where together with thousands of...\n______________________________\nThis Event Downloaded From a Helios Calendar Powered Site
LOCATION:City Star Parties - Tunnel Tops Park - 210 Lincoln Blvd East Meadow\, San Francisco\, CA  94129
CATEGORIES:BayAreaScience.org Events
PRIORITY:0
TRANSP:TRANSPARENT
END:VEVENT
END:VCALENDAR