BEGIN:VCALENDAR
VERSION:2.0
METHOD:PUBLISH
CALSCALE:GREGORIAN
PRODID:-//Refresh Web Development//Helios Calendar//EN
X-FROM-URL:https://www.bayareascience.org/calendar/index.php?com=details&eID=35848
X-WR-RELCALID:BayAreaScience.org Experience the Solar Eclipse With San Mateo County Libraries 20240408T100000
X-WR-TIMEZONE:America/New_York
X-WR-CALNAME:BayAreaScience.org
BEGIN:VEVENT
URL;VALUE=URI:https://www.bayareascience.org/calendar/index.php?com=detail&eID=35848
DTSTART:20240408T100000
DTEND:20240408T123000
SUMMARY:Experience the Solar Eclipse With San Mateo County Libraries
DESCRIPTION:During a solar eclipse\, those of us on Earth watch the sky grow dim and dark as the moon passes between us and the sun. The 2024 solar eclipse passes eastward from Mexico\, across the United States...\n______________________________\nThis Event Downloaded From a Helios Calendar Powered Site
LOCATION:Various -  \, \, CA  
CATEGORIES:BayAreaScience.org Events
PRIORITY:0
TRANSP:TRANSPARENT
END:VEVENT
END:VCALENDAR