BEGIN:VCALENDAR
VERSION:2.0
METHOD:PUBLISH
CALSCALE:GREGORIAN
PRODID:-//Refresh Web Development//Helios Calendar//EN
X-FROM-URL:https://www.bayareascience.org/calendar/index.php?com=details&eID=35852
X-WR-RELCALID:BayAreaScience.org Zero Waste Fest 20240406T100000
X-WR-TIMEZONE:America/New_York
X-WR-CALNAME:BayAreaScience.org
BEGIN:VEVENT
URL;VALUE=URI:https://www.bayareascience.org/calendar/index.php?com=detail&eID=35852
DTSTART:20240406T100000
DTEND:20240406T140000
SUMMARY:Zero Waste Fest
DESCRIPTION:Join us for Zero Waste Fest hosted by Race to Zero Waste! Walk/run around Chrissy Field\, wetsuit repair demo\, food\, yoga\, education stations\, silent disco\, paddle boarding and other water activities...\n______________________________\nThis Event Downloaded From a Helios Calendar Powered Site
LOCATION:Crissy Field - West Bluff Picnic Area \, San Francisco\, CA  94129
CATEGORIES:BayAreaScience.org Events
PRIORITY:0
TRANSP:TRANSPARENT
END:VEVENT
END:VCALENDAR