BEGIN:VCALENDAR
VERSION:2.0
METHOD:PUBLISH
CALSCALE:GREGORIAN
PRODID:-//Refresh Web Development//Helios Calendar//EN
X-FROM-URL:https://www.bayareascience.org/calendar/index.php?com=details&eID=35854
X-WR-RELCALID:BayAreaScience.org Big Earth Hackathon Kickoff and Keynote Address 20240405T140000
X-WR-TIMEZONE:America/New_York
X-WR-CALNAME:BayAreaScience.org
BEGIN:VEVENT
URL;VALUE=URI:https://www.bayareascience.org/calendar/index.php?com=detail&eID=35854
DTSTART:20240405T140000
DTEND:20240405T153000
SUMMARY:Big Earth Hackathon Kickoff and Keynote Address
DESCRIPTION:Come celebrate the beginning of this year's Big Earth Hackathon: Wildland Fire Challenge. Hear about some of the challenges facing our society under the threat of wildfires\, and hear a keynote...\n______________________________\nThis Event Downloaded From a Helios Calendar Powered Site
LOCATION:Hohbach Hall - 557 Escondido Mall Presentation Palace\, Stanford\, CA  94305
CATEGORIES:BayAreaScience.org Events
PRIORITY:0
TRANSP:TRANSPARENT
END:VEVENT
END:VCALENDAR