BEGIN:VCALENDAR
VERSION:2.0
METHOD:PUBLISH
CALSCALE:GREGORIAN
PRODID:-//Refresh Web Development//Helios Calendar//EN
X-FROM-URL:https://www.bayareascience.org/calendar/index.php?com=details&eID=35858
X-WR-RELCALID:BayAreaScience.org An Evening with Michael Pollan 20240503T173000
X-WR-TIMEZONE:America/New_York
X-WR-CALNAME:BayAreaScience.org
BEGIN:VEVENT
URL;VALUE=URI:https://www.bayareascience.org/calendar/index.php?com=detail&eID=35858
DTSTART:20240503T173000
DTEND:20240503T173000
SUMMARY:An Evening with Michael Pollan
DESCRIPTION:Writer Michael Pollan talks with KQEDâ€™s Mina Kim about our individual and collective well-being\, from changing whatâ€™s on our tables to whatâ€™s...\n______________________________\nThis Event Downloaded From a Helios Calendar Powered Site
LOCATION:Zellerbach Hall\, UC Berkeley - 2200 University Drive \, Berkeley\, CA  94720
CATEGORIES:BayAreaScience.org Events
PRIORITY:0
TRANSP:TRANSPARENT
END:VEVENT
END:VCALENDAR