BEGIN:VCALENDAR
VERSION:2.0
METHOD:PUBLISH
CALSCALE:GREGORIAN
PRODID:-//Refresh Web Development//Helios Calendar//EN
X-FROM-URL:https://www.bayareascience.org/calendar/index.php?com=details&eID=35862
X-WR-RELCALID:BayAreaScience.org Fluidic Telescope (FLUTE): Enabling the Next Generation of Large Space Observatories - Wrong Date 20240427T193000
X-WR-TIMEZONE:America/New_York
X-WR-CALNAME:BayAreaScience.org
BEGIN:VEVENT
URL;VALUE=URI:https://www.bayareascience.org/calendar/index.php?com=detail&eID=35862
DTSTART:20240427T193000
DTEND:20240427T193000
SUMMARY:Fluidic Telescope (FLUTE): Enabling the Next Generation of Large Space Observatories - Wrong Date
DESCRIPTION:The future of space-based UV/optical/IR astronomy requires ever larger telescopes. The highest priority astrophysics targets\, including Earth-like exoplanets\, first generation stars\, and early...\n______________________________\nThis Event Downloaded From a Helios Calendar Powered Site
LOCATION:East Bay Astronomical Society - Chabot Space & Science Center\, 10000 Skyline Blvd Classroom 4 formerly knows as Copernicus\, Oakland\, CA  94619
CATEGORIES:BayAreaScience.org Events
PRIORITY:0
TRANSP:TRANSPARENT
END:VEVENT
END:VCALENDAR