BEGIN:VCALENDAR
VERSION:2.0
METHOD:PUBLISH
CALSCALE:GREGORIAN
PRODID:-//Refresh Web Development//Helios Calendar//EN
X-FROM-URL:https://www.bayareascience.org/calendar/index.php?com=details&eID=35864
X-WR-RELCALID:BayAreaScience.org Solar Eclipse Live 20240408T100000
X-WR-TIMEZONE:America/New_York
X-WR-CALNAME:BayAreaScience.org
BEGIN:VEVENT
URL;VALUE=URI:https://www.bayareascience.org/calendar/index.php?com=detail&eID=35864
DTSTART:20240408T100000
DTEND:20240408T130000
SUMMARY:Solar Eclipse Live
DESCRIPTION:The SETI Institute and Unistellar are proud to present a special three-hour SETI Live event. HostsÂ Beth Johnson\, Planetary Scientist & SETI Institute's Communications Specialist...\n______________________________\nThis Event Downloaded From a Helios Calendar Powered Site
LOCATION:SETI Institute -  \, \, CA  
CATEGORIES:BayAreaScience.org Events
PRIORITY:0
TRANSP:TRANSPARENT
END:VEVENT
END:VCALENDAR