BEGIN:VCALENDAR
VERSION:2.0
METHOD:PUBLISH
CALSCALE:GREGORIAN
PRODID:-//Refresh Web Development//Helios Calendar//EN
X-FROM-URL:https://www.bayareascience.org/calendar/index.php?com=details&eID=35865
X-WR-RELCALID:BayAreaScience.org Mt. Tam Star Party 20240511T193000
X-WR-TIMEZONE:America/New_York
X-WR-CALNAME:BayAreaScience.org
BEGIN:VEVENT
URL;VALUE=URI:https://www.bayareascience.org/calendar/index.php?com=detail&eID=35865
DTSTART:20240511T193000
DTEND:20240511T223000
SUMMARY:Mt. Tam Star Party
DESCRIPTION:San Francisco Amateur Astronomers will give us a tour of the springtime constellations and offer telescope viewing.We will observe the crescent Moon\, the Beehive and Coma star clusters\,...\n______________________________\nThis Event Downloaded From a Helios Calendar Powered Site
LOCATION:Rock Spring Trailhead - West Ridgecrest Blvd Mt. Tamalpais State Park\, Mill Valley\, CA  94970
CATEGORIES:BayAreaScience.org Events
PRIORITY:0
TRANSP:TRANSPARENT
END:VEVENT
END:VCALENDAR