BEGIN:VCALENDAR
VERSION:2.0
METHOD:PUBLISH
CALSCALE:GREGORIAN
PRODID:-//Refresh Web Development//Helios Calendar//EN
X-FROM-URL:https://www.bayareascience.org/calendar/index.php?com=details&eID=35870
X-WR-RELCALID:BayAreaScience.org InsectPalooza 20240519T120000
X-WR-TIMEZONE:America/New_York
X-WR-CALNAME:BayAreaScience.org
BEGIN:VEVENT
URL;VALUE=URI:https://www.bayareascience.org/calendar/index.php?com=detail&eID=35870
DTSTART:20240519T120000
DTEND:20240519T150000
SUMMARY:InsectPalooza
DESCRIPTION:Join us for this free family-friendly event to get up close and hands-on with live animals from SaveNature.Orgâ€™s Insect Discovery Lab! Meet a variety of arthropods from around the world\,...\n______________________________\nThis Event Downloaded From a Helios Calendar Powered Site
LOCATION:Minnesota Street Project - 1275 Minnesota St \, San Francisco\, CA  94107
CATEGORIES:BayAreaScience.org Events
PRIORITY:0
TRANSP:TRANSPARENT
END:VEVENT
END:VCALENDAR