BEGIN:VCALENDAR
VERSION:2.0
METHOD:PUBLISH
CALSCALE:GREGORIAN
PRODID:-//Refresh Web Development//Helios Calendar//EN
X-FROM-URL:https://www.bayareascience.org/calendar/index.php?com=details&eID=35881
X-WR-RELCALID:BayAreaScience.org Workshop: Solar Oven Cooking 20240406T123000
X-WR-TIMEZONE:America/New_York
X-WR-CALNAME:BayAreaScience.org
BEGIN:VEVENT
URL;VALUE=URI:https://www.bayareascience.org/calendar/index.php?com=detail&eID=35881
DTSTART:20240406T123000
DTEND:20240406T143000
SUMMARY:Workshop: Solar Oven Cooking
DESCRIPTION:Learn how to harness the power of the sunâ€™s energy for cooking. Teacher and solar-cooking enthusiast Laura Chinn-Smoot will share a presentation followed by a demonstration of solar cooking...\n______________________________\nThis Event Downloaded From a Helios Calendar Powered Site
LOCATION:San Francisco Public Library - Anza Branch - 550 37th Ave \, San Francisco\, CA  94121
CATEGORIES:BayAreaScience.org Events
PRIORITY:0
TRANSP:TRANSPARENT
END:VEVENT
END:VCALENDAR