BEGIN:VCALENDAR
VERSION:2.0
METHOD:PUBLISH
CALSCALE:GREGORIAN
PRODID:-//Refresh Web Development//Helios Calendar//EN
X-FROM-URL:https://www.bayareascience.org/calendar/index.php?com=details&eID=35887
X-WR-RELCALID:BayAreaScience.org Solar Eclipse @ Foothill College Observatory 20240408T103000
X-WR-TIMEZONE:America/New_York
X-WR-CALNAME:BayAreaScience.org
BEGIN:VEVENT
URL;VALUE=URI:https://www.bayareascience.org/calendar/index.php?com=detail&eID=35887
DTSTART:20240408T103000
DTEND:20240408T120000
SUMMARY:Solar Eclipse @ Foothill College Observatory
DESCRIPTION:While we won't see the 2024 total eclipse here in the Bay Area\, we do have something that's still very special: A partial eclipse of the sun!Many Peninsula Astronomical...\n______________________________\nThis Event Downloaded From a Helios Calendar Powered Site
LOCATION:Foothill College Observatory - 4100 Perimeter Rd \, Los Altos Hills\,\, CA  94022
CATEGORIES:BayAreaScience.org Events
PRIORITY:0
TRANSP:TRANSPARENT
END:VEVENT
END:VCALENDAR