BEGIN:VCALENDAR
VERSION:2.0
METHOD:PUBLISH
CALSCALE:GREGORIAN
PRODID:-//Refresh Web Development//Helios Calendar//EN
X-FROM-URL:https://www.bayareascience.org/calendar/index.php?com=details&eID=35888
X-WR-RELCALID:BayAreaScience.org Is the Planet Full? What We Need to Know about Overpopulation - Livestream 20240418T160000
X-WR-TIMEZONE:America/New_York
X-WR-CALNAME:BayAreaScience.org
BEGIN:VEVENT
URL;VALUE=URI:https://www.bayareascience.org/calendar/index.php?com=detail&eID=35888
DTSTART:20240418T160000
DTEND:20240418T160000
SUMMARY:Is the Planet Full? What We Need to Know about Overpopulation - Livestream
DESCRIPTION:The human population reached eight billion people in 2022 and may reach ten billion later this century. A relatively small (and rich) fraction of those billions are able to cause climate change...\n______________________________\nThis Event Downloaded From a Helios Calendar Powered Site
LOCATION:Skeptical Inquirer -  \, \, CA  
CATEGORIES:BayAreaScience.org Events
PRIORITY:0
TRANSP:TRANSPARENT
END:VEVENT
END:VCALENDAR