BEGIN:VCALENDAR
VERSION:2.0
METHOD:PUBLISH
CALSCALE:GREGORIAN
PRODID:-//Refresh Web Development//Helios Calendar//EN
X-FROM-URL:https://www.bayareascience.org/calendar/index.php?com=details&eID=35890
X-WR-RELCALID:BayAreaScience.org The Great Blue Herons of Golden Gate Park 20240413T130000
X-WR-TIMEZONE:America/New_York
X-WR-CALNAME:BayAreaScience.org
BEGIN:VEVENT
URL;VALUE=URI:https://www.bayareascience.org/calendar/index.php?com=detail&eID=35890
DTSTART:20240413T130000
DTEND:20240413T140000
SUMMARY:The Great Blue Herons of Golden Gate Park
DESCRIPTION:Nancy H. DeStefanis\, American environmental educator\, field ornithologist and lecturer\, presents the lifecycle of the magnificent Great Blue Herons which breed at Blue Heron Lake (formerly Stow...\n______________________________\nThis Event Downloaded From a Helios Calendar Powered Site
LOCATION:Sunset Branch SF Public Library - 1305 8th Ave At Irving\, San Francisco\, CA  94122
CATEGORIES:BayAreaScience.org Events
PRIORITY:0
TRANSP:TRANSPARENT
END:VEVENT
END:VCALENDAR