BEGIN:VCALENDAR
VERSION:2.0
METHOD:PUBLISH
CALSCALE:GREGORIAN
PRODID:-//Refresh Web Development//Helios Calendar//EN
X-FROM-URL:https://www.bayareascience.org/calendar/index.php?com=details&eID=35895
X-WR-RELCALID:BayAreaScience.org Peninsula Gem & Geology Society: Painite - Livestream 20240424T190000
X-WR-TIMEZONE:America/New_York
X-WR-CALNAME:BayAreaScience.org
BEGIN:VEVENT
URL;VALUE=URI:https://www.bayareascience.org/calendar/index.php?com=detail&eID=35895
DTSTART:20240424T190000
DTEND:20240424T190000
SUMMARY:Peninsula Gem & Geology Society: Painite - Livestream
DESCRIPTION:George Rossman of Cal-Tech is back again to introduce us to the mineral "Painite." NO\, this is NOT an April Fool's joke. Look it up: Mindat.org.Guests...\n______________________________\nThis Event Downloaded From a Helios Calendar Powered Site
LOCATION:Peninsula Gem and Geology Society -  \, \, CA  
CATEGORIES:BayAreaScience.org Events
PRIORITY:0
TRANSP:TRANSPARENT
END:VEVENT
END:VCALENDAR