BEGIN:VCALENDAR
VERSION:2.0
METHOD:PUBLISH
CALSCALE:GREGORIAN
PRODID:-//Refresh Web Development//Helios Calendar//EN
X-FROM-URL:https://www.bayareascience.org/calendar/index.php?com=details&eID=35896
X-WR-RELCALID:BayAreaScience.org FUNDIS Year One Recap and Year 2 Goals 20240418T193000
X-WR-TIMEZONE:America/New_York
X-WR-CALNAME:BayAreaScience.org
BEGIN:VEVENT
URL;VALUE=URI:https://www.bayareascience.org/calendar/index.php?com=detail&eID=35896
DTSTART:20240418T193000
DTEND:20240419T160000
SUMMARY:FUNDIS Year One Recap and Year 2 Goals
DESCRIPTION:Join SOMAâ€™s own Taye Bright...\n______________________________\nThis Event Downloaded From a Helios Calendar Powered Site
LOCATION:Sebastopol Grange - 6000 Sebastopol Ave Hwy 12\, Sebastopol\, CA  95472
CATEGORIES:BayAreaScience.org Events
PRIORITY:0
TRANSP:TRANSPARENT
END:VEVENT
END:VCALENDAR