BEGIN:VCALENDAR
VERSION:2.0
METHOD:PUBLISH
CALSCALE:GREGORIAN
PRODID:-//Refresh Web Development//Helios Calendar//EN
X-FROM-URL:https://www.bayareascience.org/calendar/index.php?com=details&eID=35897
X-WR-RELCALID:BayAreaScience.org WhaleFest 2024 20240420T103000
X-WR-TIMEZONE:America/New_York
X-WR-CALNAME:BayAreaScience.org
BEGIN:VEVENT
URL;VALUE=URI:https://www.bayareascience.org/calendar/index.php?com=detail&eID=35897
DTSTART:20240420T103000
DTEND:20240420T133000
SUMMARY:WhaleFest 2024
DESCRIPTION:Come Shake your Tail - Save a Whale and celebrate Earth Day at this WhaleFest at the...\n______________________________\nThis Event Downloaded From a Helios Calendar Powered Site
LOCATION:Linda Mar State Beach North Lot - 5000 Hwy 1 \, Pacifica\, CA USA 94044
CATEGORIES:BayAreaScience.org Events
PRIORITY:0
TRANSP:TRANSPARENT
END:VEVENT
END:VCALENDAR