BEGIN:VCALENDAR
VERSION:2.0
METHOD:PUBLISH
CALSCALE:GREGORIAN
PRODID:-//Refresh Web Development//Helios Calendar//EN
X-FROM-URL:https://www.bayareascience.org/calendar/index.php?com=details&eID=35903
X-WR-RELCALID:BayAreaScience.org Exploring a Hot, Young World - Livestream 20240425T143000
X-WR-TIMEZONE:America/New_York
X-WR-CALNAME:BayAreaScience.org
BEGIN:VEVENT
URL;VALUE=URI:https://www.bayareascience.org/calendar/index.php?com=detail&eID=35903
DTSTART:20240425T143000
DTEND:20240425T150000
SUMMARY:Exploring a Hot\, Young World - Livestream
DESCRIPTION:The Closest and Youngest Earth-sized Planet Discovered In a groundbreaking discovery\, astronomers have identified an Earth-sized planet closer and younger...\n______________________________\nThis Event Downloaded From a Helios Calendar Powered Site
LOCATION:SETI Institute -  \, \, CA  
CATEGORIES:BayAreaScience.org Events
PRIORITY:0
TRANSP:TRANSPARENT
END:VEVENT
END:VCALENDAR