BEGIN:VCALENDAR
VERSION:2.0
METHOD:PUBLISH
CALSCALE:GREGORIAN
PRODID:-//Refresh Web Development//Helios Calendar//EN
X-FROM-URL:https://www.bayareascience.org/calendar/index.php?com=details&eID=35904
X-WR-RELCALID:BayAreaScience.org AI for Learning Photorealistic 3D Digital Humans from In-the-Wild Data - Livestream 20240418T190000
X-WR-TIMEZONE:America/New_York
X-WR-CALNAME:BayAreaScience.org
BEGIN:VEVENT
URL;VALUE=URI:https://www.bayareascience.org/calendar/index.php?com=detail&eID=35904
DTSTART:20240418T190000
DTEND:20240418T190000
SUMMARY:AI for Learning Photorealistic 3D Digital Humans from In-the-Wild Data - Livestream
DESCRIPTION:Traditionally\, creating 3D digital humans requires lengthy efforts by digital artists\, and often costly 3D scanning by special multi-view scanners. Learn how recent generative AI technologies allow...\n______________________________\nThis Event Downloaded From a Helios Calendar Powered Site
LOCATION:SF Bay Association for Computing Machinery Chapter -  \, \, CA  
CATEGORIES:BayAreaScience.org Events
PRIORITY:0
TRANSP:TRANSPARENT
END:VEVENT
END:VCALENDAR