BEGIN:VCALENDAR
VERSION:2.0
METHOD:PUBLISH
CALSCALE:GREGORIAN
PRODID:-//Refresh Web Development//Helios Calendar//EN
X-FROM-URL:https://www.bayareascience.org/calendar/index.php?com=details&eID=35905
X-WR-RELCALID:BayAreaScience.org  Investigating cosmic origin and evolution with CMB-S4  20240415T153000
X-WR-TIMEZONE:America/New_York
X-WR-CALNAME:BayAreaScience.org
BEGIN:VEVENT
URL;VALUE=URI:https://www.bayareascience.org/calendar/index.php?com=detail&eID=35905
DTSTART:20240415T153000
DTEND:20240415T163000
SUMMARY: Investigating cosmic origin and evolution with CMB-S4 
DESCRIPTION:The red-hot glow of the primordial universe\, after 13.8 billion years of redshift\, is observed today by our telescopes as the Cosmic Microwave Background (CMB). Spatial variations of CMB...\n______________________________\nThis Event Downloaded From a Helios Calendar Powered Site
LOCATION:Stanford Linear Accelerator (SLAC) Colloquium Series - 2575 Sand Hill Road\, Building 48 Redwood Rooms C & D\, Menlo Park\, CA  94025
CATEGORIES:BayAreaScience.org Events
PRIORITY:0
TRANSP:TRANSPARENT
END:VEVENT
END:VCALENDAR