BEGIN:VCALENDAR
VERSION:2.0
METHOD:PUBLISH
CALSCALE:GREGORIAN
PRODID:-//Refresh Web Development//Helios Calendar//EN
X-FROM-URL:https://www.bayareascience.org/calendar/index.php?com=details&eID=35908
X-WR-RELCALID:BayAreaScience.org The Policy Challenge of AI Safety  20240415T130000
X-WR-TIMEZONE:America/New_York
X-WR-CALNAME:BayAreaScience.org
BEGIN:VEVENT
URL;VALUE=URI:https://www.bayareascience.org/calendar/index.php?com=detail&eID=35908
DTSTART:20240415T130000
DTEND:20240415T174500
SUMMARY:The Policy Challenge of AI Safety 
DESCRIPTION:Rapidly advancingÂ AIÂ has prompted a wide spectrum of views about AI safety\, ranging from existential fears to skeptical dismissals of â€œdoomers.â€ Meanwhile\, few are tracking the...\n______________________________\nThis Event Downloaded From a Helios Calendar Powered Site
LOCATION:Traitel Building - 435 Lasuen Mall Hauck Auditorium\, Stanford\, CA  94305
CATEGORIES:BayAreaScience.org Events
PRIORITY:0
TRANSP:TRANSPARENT
END:VEVENT
END:VCALENDAR